BEGIN:VCALENDAR
VERSION:2.0
PRODID:-//Rebecca&#039;s Dream - ECPv6.15.17.1//NONSGML v1.0//EN
CALSCALE:GREGORIAN
METHOD:PUBLISH
X-ORIGINAL-URL:https://rebeccasdream.org
X-WR-CALDESC:Events for Rebecca&#039;s Dream
REFRESH-INTERVAL;VALUE=DURATION:PT1H
X-Robots-Tag:noindex
X-PUBLISHED-TTL:PT1H
BEGIN:VTIMEZONE
TZID:America/Chicago
BEGIN:DAYLIGHT
TZOFFSETFROM:-0600
TZOFFSETTO:-0500
TZNAME:CDT
DTSTART:20180311T080000
END:DAYLIGHT
BEGIN:STANDARD
TZOFFSETFROM:-0500
TZOFFSETTO:-0600
TZNAME:CST
DTSTART:20181104T070000
END:STANDARD
BEGIN:DAYLIGHT
TZOFFSETFROM:-0600
TZOFFSETTO:-0500
TZNAME:CDT
DTSTART:20190310T080000
END:DAYLIGHT
BEGIN:STANDARD
TZOFFSETFROM:-0500
TZOFFSETTO:-0600
TZNAME:CST
DTSTART:20191103T070000
END:STANDARD
BEGIN:DAYLIGHT
TZOFFSETFROM:-0600
TZOFFSETTO:-0500
TZNAME:CDT
DTSTART:20200308T080000
END:DAYLIGHT
BEGIN:STANDARD
TZOFFSETFROM:-0500
TZOFFSETTO:-0600
TZNAME:CST
DTSTART:20201101T070000
END:STANDARD
END:VTIMEZONE
BEGIN:VEVENT
DTSTART;TZID=America/Chicago:20190609T123000
DTEND;TZID=America/Chicago:20190609T171500
DTSTAMP:20260424T105843
CREATED:20180803T140635Z
LAST-MODIFIED:20190513T173010Z
UID:9283-1560083400-1560100500@rebeccasdream.org
SUMMARY:"next to normal"
DESCRIPTION:Get your tickets NOW!\nJoin us for a special showing of\n“next to normal”\nRebecca’s Dream is partnering with Writers Theatre production of “next to normal.”\nNext to Normal explores a mothers struggle with worsening bipolar disorder and the effects that managing her illness has on her family. \nWinner of three Tony Awards\, and the Pulitzer Prize\, Next to Normal was also chosen as “one of the year’s ten best shows.” \nSunday\, June 9\, 2019\n12:30pm light brunch\n2:00pm show\nbrief post show discussion \nticket price $180/pp \n  \nGet your tickets NOW!
URL:https://rebeccasdream.org/event/next-to-normal/
CATEGORIES:Events
ATTACH;FMTTYPE=image/jpeg:https://rebeccasdream.org/wp-content/uploads/2018/08/RD-Next-to-Normal.jpg
END:VEVENT
BEGIN:VEVENT
DTSTART;TZID=America/Chicago:20190519T110000
DTEND;TZID=America/Chicago:20190519T150000
DTSTAMP:20260424T105843
CREATED:20190130T145420Z
LAST-MODIFIED:20190625T213505Z
UID:9677-1558263600-1558278000@rebeccasdream.org
SUMMARY:Take a Stand | Green Hat Walk
DESCRIPTION:Register Now! \n\nTake a Stand | Green Hat Walk\nfor Mental Health Equality\nRebecca’s Dream and Mental Health Association of Greater Chicago have partnered to engage people everywhere to TAKE A STAND and help us:\n\nErase the stigma and bring equality to mental health awareness\nSpread the message that mental illness is a real disease\nEradicate and educate on issues surrounding suicide\n\nRegister Today!\nWhy We Walk? \nWe believe public awareness and action is needed. Join us in our walk to bridge the gap in mental health services: Parents and schools do what they can with what they have. But even so\, here’s the sad truth: \n\n\nSocial media has created tremendous new pressures on kids\, every waking hour of the year.\n\n\nSome kids have additional stresses of poverty\, bullying\, and mental health challenges.\n\n\n\nAs a result\, kids right in our community are committing suicide to escape their situation. We want them to know there’s a way out! They can get help. We need your help to reach more kids–before it’s too late.\n\n\n\n  \nFeaturing:\n\nXavier Fulton\, a Canadian football offensive tackle. He was drafted by the Tampa Bay Buccaneers in 2009 NFL draft. Xavier will share his inspirational story about living with anxiety and depression as well as the challenges of athletic traumatic brain injuries.\n\n\n\n\n\nEntertainment By:\n\nWhen the Sun Sets\, a Chicago based band whose mission is to change lives with their music.\n\n\n  \nWalk With Us! \n\n\n\n\n\nThis Walk is a special event that brings together residents of Illinois for an amazing cause with fun for the entire family. \n\n\n \n\n\nDate: May 19\, 2019\n\n\nTime: 11:00 am – 3:00 pm\n\n\nLocation: Grant Park ~ Arvey Field\, Chicago\, Illinois 60605 United States\n\n\n(near the corner of Columbus Drive and Roosevelt Road)\n\n\n \n\n\nSchedule of events:\n\n\n\n11:00 am Registration\n\n\n12:00 pm – Opening Ceremony\n\n\n12:30 pm – Walk\n\n\n1:30 pm –   Fun\, Food\, Activities & Entertainment Continues\n\n\n3:00 pm –   Hat Decorating Winners Announced\n\n\nRegister Now!
URL:https://rebeccasdream.org/event/mental-health-equality-take-a-stand-walk/
LOCATION:Grant Park\, 337 E Randolph St\, Chicago\, IL\, 60601\, United States
CATEGORIES:Events
ATTACH;FMTTYPE=image/jpeg:https://rebeccasdream.org/wp-content/uploads/2019/01/Mental-Health-Equality-Stand_Walk.jpg
END:VEVENT
BEGIN:VEVENT
DTSTART;TZID=America/Chicago:20190416T190000
DTEND;TZID=America/Chicago:20190416T203000
DTSTAMP:20260424T105843
CREATED:20190328T135558Z
LAST-MODIFIED:20190501T222008Z
UID:9726-1555441200-1555446600@rebeccasdream.org
SUMMARY:Teens and Transitions
DESCRIPTION:Do you have an 8th grader entering Highland Park High School?\nYou don’t want to miss this program!\nTeens and Transitions\nFree Program for Parents\nOffers expert information on helping teens manage transition to high school\nApril 16\, 2019\n7:00 pm – 8:30 pm\nHighland Park High School Commons \nThe transition from middle school to high school can be difficult for teens There’s no field guide to this transition\, and every child experiences the process differently. What’s normal? What’s not? When should you seek help? How can parents help their kids succeed? \nThis panel will address issues kids encounter as they transition to high school including social and educational challenges\, academic expectations and support\, drinking\, drugs\, and meds\, triggers and signs of stress and depression\, when to seek help\, and school and community resources for helping kids cope. Walk away with tips and tools to use in you can use in your own home. \nPanelists include:\n\nDr. Neal Gordon\, Ed.S.\, S.C.\nAlesia Margetis\, HPHS Counseling Department Chair\nRachel Torf\, Ed.S.\, NCSP\, HPHS Psychologist\nGus Pappadimas\, Ed.S.\, CADC\, HPHS Psychologist\nPablo Alvarez\, HPHS Counselor
URL:https://rebeccasdream.org/event/teens-and-transitions-3/
LOCATION:Highland Park High School\, United States
CATEGORIES:Events
ATTACH;FMTTYPE=image/jpeg:https://rebeccasdream.org/wp-content/uploads/2019/03/Teens-and-Transitions-event-image-2019.jpg
END:VEVENT
END:VCALENDAR